BEGIN:VCALENDAR
VERSION:2.0
PRODID:-//hacksw/handcal//NONSGML v1.0//EN
BEGIN:VEVENT
UID:4437
DTSTART;VALUE=DATE:20150828
URL;VALUE=URI:ohschonhell.at/?page_id=7867
SUMMARY:Season OPENING with SAMMY DEE / Nightride / Happy 1st Birthday dear Mainfloor
LOCATION:AUSLAGE
END:VEVENT
END:VCALENDAR


