BEGIN:VCALENDAR
VERSION:2.0
PRODID:-//hacksw/handcal//NONSGML v1.0//EN
BEGIN:VEVENT
UID:4450
DTSTART;VALUE=DATE:20150728
URL;VALUE=URI:ohschonhell.at/?page_id=7893
SUMMARY:Techno Cafe
LOCATION:VOLKSGARTEN PAVILLON
END:VEVENT
END:VCALENDAR


