BEGIN:VCALENDAR
VERSION:2.0
PRODID:-//hacksw/handcal//NONSGML v1.0//EN
BEGIN:VEVENT
UID:4478
DTSTART;VALUE=DATE:20150821
URL;VALUE=URI:ohschonhell.at/?page_id=7957
SUMMARY:TECHNO MACHT SINN OPEN AIR SUMMER SPECIAL &gt\; FREE ENTRY &lt\;
LOCATION:ENDSTATION HALTESTELLE 1er
END:VEVENT
END:VCALENDAR


