BEGIN:VCALENDAR
VERSION:2.0
PRODID:-//hacksw/handcal//NONSGML v1.0//EN
BEGIN:VEVENT
UID:4510
DTSTART;VALUE=DATE:20151030
URL;VALUE=URI:ohschonhell.at/?page_id=8031
SUMMARY:FM4 Unlimited im Wiener Rathaus
LOCATION:RATHAUS
END:VEVENT
END:VCALENDAR


