BEGIN:VCALENDAR
VERSION:2.0
PRODID:-//hacksw/handcal//NONSGML v1.0//EN
BEGIN:VEVENT
UID:4512
DTSTART;VALUE=DATE:20150914
URL;VALUE=URI:ohschonhell.at/?page_id=8035
SUMMARY:Container (Spectrum Spools\, Morphine Rec.\, Liberation Technologies\, US)\, Northcom  (Project of Deniz Altun\, A)
LOCATION:RHIZ
END:VEVENT
END:VCALENDAR


