BEGIN:VCALENDAR
VERSION:2.0
PRODID:-//hacksw/handcal//NONSGML v1.0//EN
BEGIN:VEVENT
UID:452
DTSTART;VALUE=DATE:20140221
URL;VALUE=URI:ohschonhell.at/?page_id=2903
SUMMARY:URBAN GROOVES pres. DAY.DIN &amp\; TALPA live
LOCATION:OTTAKRINGER BRAUEREI
END:VEVENT
END:VCALENDAR


