BEGIN:VCALENDAR
VERSION:2.0
PRODID:-//hacksw/handcal//NONSGML v1.0//EN
BEGIN:VEVENT
UID:4544
DTSTART;VALUE=DATE:20151017
URL;VALUE=URI:ohschonhell.at/?page_id=8103
SUMMARY:ॐॐ FABRIC OF SPACE ॐॐ A Psychedelic Gathering ॐॐ ●● PROCS ●●● ATRIOHM ●●● ENCEPHALOPATICYS ●●● OCELOT●●● IANUARIA ●●● MUSCARIA ●●● CELENTANO
LOCATION:CLUB 34
END:VEVENT
END:VCALENDAR


