BEGIN:VCALENDAR
VERSION:2.0
PRODID:-//hacksw/handcal//NONSGML v1.0//EN
BEGIN:VEVENT
UID:4549
DTSTART;VALUE=DATE:20150911
URL;VALUE=URI:ohschonhell.at/?page_id=8113
SUMMARY:THRESHOLD DNB 911
LOCATION:ENDSTATION HALTESTELLE 1er
END:VEVENT
END:VCALENDAR


