BEGIN:VCALENDAR
VERSION:2.0
PRODID:-//hacksw/handcal//NONSGML v1.0//EN
BEGIN:VEVENT
UID:4552
DTSTART;VALUE=DATE:20150829
URL;VALUE=URI:ohschonhell.at/?page_id=8119
SUMMARY:DONAUWELLE Summerbreak Edition
LOCATION:ENDSTATION HALTESTELLE 1er
END:VEVENT
END:VCALENDAR


