BEGIN:VCALENDAR
VERSION:2.0
PRODID:-//hacksw/handcal//NONSGML v1.0//EN
BEGIN:VEVENT
UID:4560
DTSTART;VALUE=DATE:20150815
URL;VALUE=URI:ohschonhell.at/?page_id=8135
SUMMARY:Tanzmatratze &amp\; Hawaras
LOCATION:ELEKTRO GÖNNER
END:VEVENT
END:VCALENDAR


