BEGIN:VCALENDAR
VERSION:2.0
PRODID:-//hacksw/handcal//NONSGML v1.0//EN
BEGIN:VEVENT
UID:4562
DTSTART;VALUE=DATE:20150814
URL;VALUE=URI:ohschonhell.at/?page_id=8139
SUMMARY:Calle Libre KICK OFF EVENT // Artist Talk + Aftershowparty w/ Kidkut\, DJ M!X &amp\; EEZLO // FREE ENTRY!
LOCATION:CAFE LEOPOLD
END:VEVENT
END:VCALENDAR


