BEGIN:VCALENDAR
VERSION:2.0
PRODID:-//hacksw/handcal//NONSGML v1.0//EN
BEGIN:VEVENT
UID:459
DTSTART;VALUE=DATE:20140111
URL;VALUE=URI:ohschonhell.at/?page_id=2910
SUMMARY:MIDIMAL 1/14
LOCATION:RAGNARHOF
END:VEVENT
END:VCALENDAR


