BEGIN:VCALENDAR
VERSION:2.0
PRODID:-//hacksw/handcal//NONSGML v1.0//EN
BEGIN:VEVENT
UID:4599
DTSTART;VALUE=DATE:20150905
URL;VALUE=URI:ohschonhell.at/?page_id=8217
SUMMARY:Musical Collective pres.  Deep Affair
LOCATION:DUAL
END:VEVENT
END:VCALENDAR


