BEGIN:VCALENDAR
VERSION:2.0
PRODID:-//hacksw/handcal//NONSGML v1.0//EN
BEGIN:VEVENT
UID:4600
DTSTART;VALUE=DATE:20150905
URL;VALUE=URI:ohschonhell.at/?page_id=8219
SUMMARY:Digitalstorm - Summer Edition In Der Schmelze
LOCATION:SUMMER STATION
END:VEVENT
END:VCALENDAR


