BEGIN:VCALENDAR
VERSION:2.0
PRODID:-//hacksw/handcal//NONSGML v1.0//EN
BEGIN:VEVENT
UID:4607
DTSTART;VALUE=DATE:20150905
URL;VALUE=URI:ohschonhell.at/?page_id=8233
SUMMARY:GANGpeng!
LOCATION:VOLKSGARTEN
END:VEVENT
END:VCALENDAR


