BEGIN:VCALENDAR
VERSION:2.0
PRODID:-//hacksw/handcal//NONSGML v1.0//EN
BEGIN:VEVENT
UID:4609
DTSTART;VALUE=DATE:20150828
URL;VALUE=URI:ohschonhell.at/?page_id=8237
SUMMARY:Tekno Time &gt\;&gt\;23&lt\;&lt\;
LOCATION:CAFE DERWISCH
END:VEVENT
END:VCALENDAR


