BEGIN:VCALENDAR
VERSION:2.0
PRODID:-//hacksw/handcal//NONSGML v1.0//EN
BEGIN:VEVENT
UID:4617
DTSTART;VALUE=DATE:20150910
URL;VALUE=URI:ohschonhell.at/?page_id=8254
SUMMARY:TRICKY! strictly underground from deep2tech house
LOCATION:FLUCC
END:VEVENT
END:VCALENDAR


