BEGIN:VCALENDAR
VERSION:2.0
PRODID:-//hacksw/handcal//NONSGML v1.0//EN
BEGIN:VEVENT
UID:4629
DTSTART;VALUE=DATE:20150926
URL;VALUE=URI:ohschonhell.at/?page_id=8278
SUMMARY:OPEN HOUSE #3 | Steve Mizek (Argot / US)
LOCATION:GRELLE FORELLE
END:VEVENT
END:VCALENDAR


