BEGIN:VCALENDAR
VERSION:2.0
PRODID:-//hacksw/handcal//NONSGML v1.0//EN
BEGIN:VEVENT
UID:4645
DTSTART;VALUE=DATE:20150904
URL;VALUE=URI:ohschonhell.at/?page_id=8310
SUMMARY:HAPPINESS pres. THE CHAYA FUERA SEASON OPENING [4/9/2015]
LOCATION:CHAYA FUERA
END:VEVENT
END:VCALENDAR


