BEGIN:VCALENDAR
VERSION:2.0
PRODID:-//hacksw/handcal//NONSGML v1.0//EN
BEGIN:VEVENT
UID:4664
DTSTART;VALUE=DATE:20150829
URL;VALUE=URI:ohschonhell.at/?page_id=8357
SUMMARY:STREET PARADE / Afterparty - MALOOKU TOOH!GETHER with BIRD NOIRE ENTERTAINMENT
LOCATION:RADIO - THE LABEL BAR
END:VEVENT
END:VCALENDAR


