BEGIN:VCALENDAR
VERSION:2.0
PRODID:-//hacksw/handcal//NONSGML v1.0//EN
BEGIN:VEVENT
UID:4689
DTSTART;VALUE=DATE:20150906
URL;VALUE=URI:ohschonhell.at/?page_id=8408
SUMMARY:TECHNO BRUNCH - der grosse Auftakt
LOCATION:RADIO - THE LABEL BAR
END:VEVENT
END:VCALENDAR


