BEGIN:VCALENDAR
VERSION:2.0
PRODID:-//hacksw/handcal//NONSGML v1.0//EN
BEGIN:VEVENT
UID:4692
DTSTART;VALUE=DATE:20151009
URL;VALUE=URI:ohschonhell.at/?page_id=8416
SUMMARY:HAUSGEMACHT HAT EIN(E) JAHRES FEIER
LOCATION:DIE KANTINE
END:VEVENT
END:VCALENDAR


