BEGIN:VCALENDAR
VERSION:2.0
PRODID:-//hacksw/handcal//NONSGML v1.0//EN
BEGIN:VEVENT
UID:4697
DTSTART;VALUE=DATE:20150911
URL;VALUE=URI:ohschonhell.at/?page_id=8426
SUMMARY:technolog @ elektro gönner
LOCATION:ELEKTRO GÖNNER
END:VEVENT
END:VCALENDAR


