BEGIN:VCALENDAR
VERSION:2.0
PRODID:-//hacksw/handcal//NONSGML v1.0//EN
BEGIN:VEVENT
UID:4698
DTSTART;VALUE=DATE:20150910
URL;VALUE=URI:ohschonhell.at/?page_id=8428
SUMMARY:JESSAS _ zusammen Spaß haben.
LOCATION:Volksgarten Technocafé
END:VEVENT
END:VCALENDAR


