BEGIN:VCALENDAR
VERSION:2.0
PRODID:-//hacksw/handcal//NONSGML v1.0//EN
BEGIN:VEVENT
UID:4699
DTSTART;VALUE=DATE:20150910
URL;VALUE=URI:ohschonhell.at/?page_id=8430
SUMMARY:Entkunstung
LOCATION:ELEKTRO GÖNNER
END:VEVENT
END:VCALENDAR


