BEGIN:VCALENDAR
VERSION:2.0
PRODID:-//hacksw/handcal//NONSGML v1.0//EN
BEGIN:VEVENT
UID:4701
DTSTART;VALUE=DATE:20150908
URL;VALUE=URI:ohschonhell.at/?page_id=8436
SUMMARY:Techno Cafe - Closing Party!
LOCATION:VOLKSGARTEN PAVILLON
END:VEVENT
END:VCALENDAR


