BEGIN:VCALENDAR
VERSION:2.0
PRODID:-//hacksw/handcal//NONSGML v1.0//EN
BEGIN:VEVENT
UID:4711
DTSTART;VALUE=DATE:20150924
URL;VALUE=URI:ohschonhell.at/?page_id=8457
SUMMARY:DONNERSTAG NACHT - SEPTEMBER INFO
LOCATION:SASS
END:VEVENT
END:VCALENDAR


