BEGIN:VCALENDAR
VERSION:2.0
PRODID:-//hacksw/handcal//NONSGML v1.0//EN
BEGIN:VEVENT
UID:4721
DTSTART;VALUE=DATE:20150906
URL;VALUE=URI:ohschonhell.at/?page_id=8477
SUMMARY:unsere kleine AFTERHOUR ♥
LOCATION:DIE KANTINE
END:VEVENT
END:VCALENDAR


