BEGIN:VCALENDAR
VERSION:2.0
PRODID:-//hacksw/handcal//NONSGML v1.0//EN
BEGIN:VEVENT
UID:4737
DTSTART;VALUE=DATE:20150912
URL;VALUE=URI:ohschonhell.at/?page_id=8510
SUMMARY:slobberclub
LOCATION:ELEKTRO GÖNNER
END:VEVENT
END:VCALENDAR


