BEGIN:VCALENDAR
VERSION:2.0
PRODID:-//hacksw/handcal//NONSGML v1.0//EN
BEGIN:VEVENT
UID:4743
DTSTART;VALUE=DATE:20151009
URL;VALUE=URI:ohschonhell.at/?page_id=8523
SUMMARY:LAUD - Freakadellen Empfang
LOCATION:DUAL
END:VEVENT
END:VCALENDAR


