BEGIN:VCALENDAR
VERSION:2.0
PRODID:-//hacksw/handcal//NONSGML v1.0//EN
BEGIN:VEVENT
UID:4745
DTSTART;VALUE=DATE:20150919
URL;VALUE=URI:ohschonhell.at/?page_id=8527
SUMMARY:Tanzmatratze &amp\; Kumpanen
LOCATION:ELEKTRO GÖNNER
END:VEVENT
END:VCALENDAR


