BEGIN:VCALENDAR
VERSION:2.0
PRODID:-//hacksw/handcal//NONSGML v1.0//EN
BEGIN:VEVENT
UID:4747
DTSTART;VALUE=DATE:20150917
URL;VALUE=URI:ohschonhell.at/?page_id=8531
SUMMARY:ELEKTRAE -  ELEKTRA(I) FEAT. B.E.A. (VENICE) B2B LADY MARU (ROME)
LOCATION:ELEKTRO GÖNNER
END:VEVENT
END:VCALENDAR


