BEGIN:VCALENDAR
VERSION:2.0
PRODID:-//hacksw/handcal//NONSGML v1.0//EN
BEGIN:VEVENT
UID:4749
DTSTART;VALUE=DATE:20150912
URL;VALUE=URI:ohschonhell.at/?page_id=8535
SUMMARY:Get Whipped in september!
LOCATION:VOLKSGARTEN
END:VEVENT
END:VCALENDAR


