BEGIN:VCALENDAR
VERSION:2.0
PRODID:-//hacksw/handcal//NONSGML v1.0//EN
BEGIN:VEVENT
UID:475
DTSTART;VALUE=DATE:20140108
URL;VALUE=URI:ohschonhell.at/?page_id=2926
SUMMARY:WASABI WEDNESDAYS - JÄNNER
LOCATION:DOTS twentyone
END:VEVENT
END:VCALENDAR


