BEGIN:VCALENDAR
VERSION:2.0
PRODID:-//hacksw/handcal//NONSGML v1.0//EN
BEGIN:VEVENT
UID:4758
DTSTART;VALUE=DATE:20151016
URL;VALUE=URI:ohschonhell.at/?page_id=8553
SUMMARY:FREAKA &amp\; DJ OKIM für Dynamo Ferdl
LOCATION:ZUM GSCHUPFTN FERDL
END:VEVENT
END:VCALENDAR


