BEGIN:VCALENDAR
VERSION:2.0
PRODID:-//hacksw/handcal//NONSGML v1.0//EN
BEGIN:VEVENT
UID:4763
DTSTART;VALUE=DATE:20151003
URL;VALUE=URI:ohschonhell.at/?page_id=8563
SUMMARY:Yoruba Rec. ft. GABRiELE POSO
LOCATION:ROTE BAR
END:VEVENT
END:VCALENDAR


