BEGIN:VCALENDAR
VERSION:2.0
PRODID:-//hacksw/handcal//NONSGML v1.0//EN
BEGIN:VEVENT
UID:4781
DTSTART;VALUE=DATE:20150918
URL;VALUE=URI:ohschonhell.at/?page_id=8599
SUMMARY:Stadt Land Fluss
LOCATION:ELEKTRO GÖNNER
END:VEVENT
END:VCALENDAR


