BEGIN:VCALENDAR
VERSION:2.0
PRODID:-//hacksw/handcal//NONSGML v1.0//EN
BEGIN:VEVENT
UID:4788
DTSTART;VALUE=DATE:20151001
URL;VALUE=URI:ohschonhell.at/?page_id=8614
SUMMARY:ASTRA
LOCATION:ELEKTRO GÖNNER
END:VEVENT
END:VCALENDAR


