BEGIN:VCALENDAR
VERSION:2.0
PRODID:-//hacksw/handcal//NONSGML v1.0//EN
BEGIN:VEVENT
UID:4792
DTSTART;VALUE=DATE:20150926
URL;VALUE=URI:ohschonhell.at/?page_id=8622
SUMMARY:13 Monate Radio - die grosse Geburtstagssause
LOCATION:RADIO - THE LABEL BAR
END:VEVENT
END:VCALENDAR


