BEGIN:VCALENDAR
VERSION:2.0
PRODID:-//hacksw/handcal//NONSGML v1.0//EN
BEGIN:VEVENT
UID:4793
DTSTART;VALUE=DATE:20150925
URL;VALUE=URI:ohschonhell.at/?page_id=8624
SUMMARY:ZWEIGLEISIG
LOCATION:DUAL
END:VEVENT
END:VCALENDAR


