BEGIN:VCALENDAR
VERSION:2.0
PRODID:-//hacksw/handcal//NONSGML v1.0//EN
BEGIN:VEVENT
UID:4795
DTSTART;VALUE=DATE:20150918
URL;VALUE=URI:ohschonhell.at/?page_id=8628
SUMMARY:BUMBLE MARMELADE : Sandra Collins hosted by fabrikamint
LOCATION:DUAL
END:VEVENT
END:VCALENDAR


