BEGIN:VCALENDAR
VERSION:2.0
PRODID:-//hacksw/handcal//NONSGML v1.0//EN
BEGIN:VEVENT
UID:4796
DTSTART;VALUE=DATE:20150917
URL;VALUE=URI:ohschonhell.at/?page_id=8630
SUMMARY:◄ SEVEN BAR{t}\, BASS ♬♫ &amp\; BUSEN ❥ Part QUATTUOR
LOCATION:Seven
END:VEVENT
END:VCALENDAR


