BEGIN:VCALENDAR
VERSION:2.0
PRODID:-//hacksw/handcal//NONSGML v1.0//EN
BEGIN:VEVENT
UID:4812
DTSTART;VALUE=DATE:20150926
URL;VALUE=URI:ohschonhell.at/?page_id=8666
SUMMARY:club 7 delights
LOCATION:DELI AM NASCHMARKT
END:VEVENT
END:VCALENDAR


