BEGIN:VCALENDAR
VERSION:2.0
PRODID:-//hacksw/handcal//NONSGML v1.0//EN
BEGIN:VEVENT
UID:4838
DTSTART;VALUE=DATE:20151010
URL;VALUE=URI:ohschonhell.at/?page_id=8721
SUMMARY:ZWEIKANALTON &quot\;Basement Sessions&quot\;
LOCATION:DUAL
END:VEVENT
END:VCALENDAR


