BEGIN:VCALENDAR
VERSION:2.0
PRODID:-//hacksw/handcal//NONSGML v1.0//EN
BEGIN:VEVENT
UID:484
DTSTART;VALUE=DATE:20140118
URL;VALUE=URI:ohschonhell.at/?page_id=2936
SUMMARY:8 YEARS AFRODISIAC / SA. 18. JAN. / CHAYA FUERA
LOCATION:CHAYA FUERA
END:VEVENT
END:VCALENDAR


