BEGIN:VCALENDAR
VERSION:2.0
PRODID:-//hacksw/handcal//NONSGML v1.0//EN
BEGIN:VEVENT
UID:4851
DTSTART;VALUE=DATE:20151016
URL;VALUE=URI:ohschonhell.at/?page_id=8751
SUMMARY:MOONBOOTICA - cheap thrills - hamburg | die Kantine
LOCATION:DIE KANTINE
END:VEVENT
END:VCALENDAR


