BEGIN:VCALENDAR
VERSION:2.0
PRODID:-//hacksw/handcal//NONSGML v1.0//EN
BEGIN:VEVENT
UID:4864
DTSTART;VALUE=DATE:20150925
URL;VALUE=URI:ohschonhell.at/?page_id=8777
SUMMARY:Flair &amp\; Flirt #18: Dünne Luft
LOCATION:ELEKTRO GÖNNER
END:VEVENT
END:VCALENDAR


