BEGIN:VCALENDAR
VERSION:2.0
PRODID:-//hacksw/handcal//NONSGML v1.0//EN
BEGIN:VEVENT
UID:487
DTSTART;VALUE=DATE:20140111
URL;VALUE=URI:ohschonhell.at/?page_id=2938
SUMMARY:PONY CLUB presents CHRISTOPHER JUST
LOCATION:ROTE BAR
END:VEVENT
END:VCALENDAR


