BEGIN:VCALENDAR
VERSION:2.0
PRODID:-//hacksw/handcal//NONSGML v1.0//EN
BEGIN:VEVENT
UID:4889
DTSTART;VALUE=DATE:20151008
URL;VALUE=URI:ohschonhell.at/?page_id=8829
SUMMARY:Stompin&#039\; Grounds
LOCATION:KIOSK SCHLEIFMÜHLGASSE
END:VEVENT
END:VCALENDAR


