BEGIN:VCALENDAR
VERSION:2.0
PRODID:-//hacksw/handcal//NONSGML v1.0//EN
BEGIN:VEVENT
UID:49
DTSTART;VALUE=DATE:20131123
URL;VALUE=URI:ohschonhell.at/?page_id=2445
SUMMARY:BOINK! pres. AMIGOS meets FORTISSIMO @ Camera\, Wien
LOCATION:CAMERA CLUB
END:VEVENT
END:VCALENDAR


